BEGIN:VCALENDAR
VERSION:2.0
PRODID:-//Museevoke - ECPv6.15.20//NONSGML v1.0//EN
CALSCALE:GREGORIAN
METHOD:PUBLISH
X-ORIGINAL-URL:https://www.museevoke.com
X-WR-CALDESC:Events for Museevoke
REFRESH-INTERVAL;VALUE=DURATION:PT1H
X-Robots-Tag:noindex
X-PUBLISHED-TTL:PT1H
BEGIN:VTIMEZONE
TZID:America/New_York
BEGIN:DAYLIGHT
TZOFFSETFROM:-0500
TZOFFSETTO:-0400
TZNAME:EDT
DTSTART:20250309T070000
END:DAYLIGHT
BEGIN:STANDARD
TZOFFSETFROM:-0400
TZOFFSETTO:-0500
TZNAME:EST
DTSTART:20251102T060000
END:STANDARD
BEGIN:DAYLIGHT
TZOFFSETFROM:-0500
TZOFFSETTO:-0400
TZNAME:EDT
DTSTART:20260308T070000
END:DAYLIGHT
BEGIN:STANDARD
TZOFFSETFROM:-0400
TZOFFSETTO:-0500
TZNAME:EST
DTSTART:20261101T060000
END:STANDARD
BEGIN:DAYLIGHT
TZOFFSETFROM:-0500
TZOFFSETTO:-0400
TZNAME:EDT
DTSTART:20270314T070000
END:DAYLIGHT
BEGIN:STANDARD
TZOFFSETFROM:-0400
TZOFFSETTO:-0500
TZNAME:EST
DTSTART:20271107T060000
END:STANDARD
END:VTIMEZONE
BEGIN:VEVENT
DTSTART;TZID=America/New_York:20260925T000000
DTEND;TZID=America/New_York:20261012T235959
DTSTAMP:20260420T220738
CREATED:20260420T154437Z
LAST-MODIFIED:20260420T154437Z
UID:1472-1790294400-1791849599@www.museevoke.com
SUMMARY:64th New York Film Festival (NYFF)
DESCRIPTION:One of the most prestigious film festivals in the world. It provides high-level networking with elite directors and producers\, as well as access to potential “luxury” sponsors.
URL:https://www.museevoke.com/event/64th-new-york-film-festival-nyff/
LOCATION:Lincoln Center\, 70 Lincoln Center Plaza\, New York\, NY\, 10023\, United States
END:VEVENT
BEGIN:VEVENT
DTSTART;TZID=America/New_York:20261002T000000
DTEND;TZID=America/New_York:20261012T235959
DTSTAMP:20260420T220738
CREATED:20260131T091032Z
LAST-MODIFIED:20260131T091353Z
UID:1236-1790899200-1791849599@www.museevoke.com
SUMMARY:Hamptons International Film Festival
DESCRIPTION:The Hamptons International Film Festival is a prestigious cultural event that attracts acclaimed filmmakers\, industry professionals\, and discerning audiences from around the world. Known for spotlighting high-caliber independent films and socially relevant storytelling\, HIFF bridges cinematic artistry with luxury cultural experiences. This festival strongly complements Museevoke’s commitment to refined visual storytelling and emotionally resonant narratives.
URL:https://www.museevoke.com/event/hamptons-international-film-festival/
END:VEVENT
BEGIN:VEVENT
DTSTART;TZID=America/New_York:20261016T000000
DTEND;TZID=America/New_York:20261025T235959
DTSTAMP:20260420T220738
CREATED:20260420T163655Z
LAST-MODIFIED:20260420T163655Z
UID:1491-1792108800-1792972799@www.museevoke.com
SUMMARY:Montclair Film Festival
DESCRIPTION:This 10-day festival is one of the most influential media events in New Jersey\, featuring a wide array of films\, celebrity conversations\, and industry panels. It is a premier venue for connecting with high-profile media figures and wealthy NJ locals\, bridging the gap between independent film and luxury networking goals.
URL:https://www.museevoke.com/event/montclair-film-festival-2/
LOCATION:Montclair\, NJ (Main Office: 505 Bloomfield Ave\, Montclair\, NJ 07042)
END:VEVENT
BEGIN:VEVENT
DTSTART;TZID=America/New_York:20261104T000000
DTEND;TZID=America/New_York:20261108T235959
DTSTAMP:20260420T220738
CREATED:20260131T091614Z
LAST-MODIFIED:20260131T091614Z
UID:1238-1793750400-1794182399@www.museevoke.com
SUMMARY:Urbanworld Film Festival
DESCRIPTION:Urbanworld Film Festival is the leading festival dedicated to multicultural cinema\, highlighting stories from underrepresented communities across film\, television\, and digital media. The festival serves as a powerful platform for diverse voices and socially impactful storytelling. Its focus on authenticity\, representation\, and cultural dialogue closely mirrors Museevoke’s mission to illuminate the unique spirit of every story it captures.
URL:https://www.museevoke.com/event/urbanworld-film-festival/
LOCATION:AMC Empire 25\, 234 West 42nd Street\, New York\, NY\, 10036\, United States
ORGANIZER;CN="Urbanworld Foundation%2C Inc.":MAILTO:info@urbanworld.org
END:VEVENT
BEGIN:VEVENT
DTSTART;TZID=America/New_York:20261111T000000
DTEND;TZID=America/New_York:20261115T235959
DTSTAMP:20260420T220738
CREATED:20260420T163824Z
LAST-MODIFIED:20260420T163824Z
UID:1494-1794355200-1794787199@www.museevoke.com
SUMMARY:Urbanworld Film Festival
DESCRIPTION:Known as “the filmmaker’s festival\,” Urbanworld is the largest internationally competitive festival in NYC dedicated to diverse narratives across film\, animation\, and digital media. It offers robust filmmaker networking tracks and an “Innovation Summit\,” making it ideal for Museevoke’s mission of discovering multicultural stories and exploring new media formats like anime and vertical drama.
URL:https://www.museevoke.com/event/urbanworld-film-festival-2/
LOCATION:Manhattan\, NY
END:VEVENT
BEGIN:VEVENT
DTSTART;TZID=America/New_York:20261112T000000
DTEND;TZID=America/New_York:20261119T235959
DTSTAMP:20260420T220738
CREATED:20260420T154207Z
LAST-MODIFIED:20260420T154207Z
UID:1468-1794441600-1795132799@www.museevoke.com
SUMMARY:DOC NYC
DESCRIPTION:The largest documentary film festival in the United States. It aligns with the mission of finding collaboration partners for non-fiction or social-impact media projects.
URL:https://www.museevoke.com/event/doc-nyc-2/
LOCATION:New York\, NY\, United States
END:VEVENT
END:VCALENDAR